BEGIN:VCALENDAR
VERSION:2.0
PRODID:Quicksite
NAME:Calendrier
X-WR-CALNAME:Calendrier
REFRESH-INTERVAL;VALUE=DURATION:PT240M
X-PUBLISHED-TTL:PT240M
BEGIN:VEVENT
UID:69eb704d61134
SUMMARY:Soirée familiale et nouveaux habitants
DESCRIPTION:au refuge communal
LOCATION:
DTSTART:20260612
DTSTAMP:20260402T171623Z
END:VEVENT
END:VCALENDAR